BEGIN:VCALENDAR
VERSION:2.0
PRODID:-//ChamberMaster//Event Calendar 2.0//EN
METHOD:PUBLISH
X-PUBLISHED-TTL:P3D
REFRESH-INTERVAL:P3D
CALSCALE:GREGORIAN
BEGIN:VEVENT
DTSTART:20160524T151500Z
DTEND:20160524T170000Z
X-MICROSOFT-CDO-ALLDAYEVENT:FALSE
SUMMARY:Eggs & Issues Neosho
DESCRIPTION:Don't miss this opportunity to hear from State Legislature & get answers from your State Elected Officials.
X-ALT-DESC;FMTTYPE=text/html:<span style="font-size: 11px\;"><span style="font-family: comic sans ms\;"><span style="font-weight: bold\; language: en-US\;">Don&rsquo\;t miss this opportunity to hear </span><span style="font-weight: bold\; language: en-US\;">from State Legislature &amp\; get </span><span style="font-weight: bold\; language: en-US\;">answers </span><span style="font-weight: bold\; language: en-US\;">from your State </span><span style="font-weight: bold\; language: en-US\;">Elected Officials</span><span style="font-weight: bold\; language: en-US\;">.</span></span></span><br />\n<br />\n&nbsp\;
LOCATION:Wright Conference Room in the Farber Building Crowder College - 601 Laclede Ave. - Neosho\, MO
UID:e.2144.1548
SEQUENCE:3
DTSTAMP:20260421T083123Z
URL:https://neoshocc.com/events/details/eggs-issues-neosho-05-24-2016-1548
END:VEVENT

END:VCALENDAR
