BEGIN:VCALENDAR
VERSION:2.0
PRODID:-//ChamberMaster//Event Calendar 2.0//EN
METHOD:PUBLISH
X-PUBLISHED-TTL:P3D
REFRESH-INTERVAL:P3D
CALSCALE:GREGORIAN
BEGIN:VEVENT
DTSTART:20260519T150000Z
DTEND:20260519T163000Z
X-MICROSOFT-CDO-ALLDAYEVENT:FALSE
SUMMARY:Eggs & Issues: Legislative Update 2026
DESCRIPTION:Join us for Eggs & Issues\, a special breakfast edition of our Member Luncheon\, where our state-elected leaders will provide a recap of the legislative session\, including key legislation that was passed and its impact on our community.\n\n \n  Date: May 19\, 2026\n\n  Location: Crowder College | Farber Building | Wright Conference Room\n\n  Doors Open: 10:00 AM\n\n  Brunch Begins: 10:15 AM\n\n  Tickets:\n\n  $20\n\nPresented by: Community Bank and Trust\n\nDon't miss this opportunity to hear directly from our state representatives and senator about the decisions made in Jefferson City and how they affect our region.\n\n  RSVP today to secure your seat!
X-ALT-DESC;FMTTYPE=text/html:Join us for&nbsp\;<strong data-end="201" data-start="184">Eggs &amp\; Issues</strong>\, a special&nbsp\;<strong data-end="234" data-start="213">breakfast edition</strong>&nbsp\;of our&nbsp\;<strong data-end="261" data-start="242">Member Luncheon</strong>\, where our&nbsp\;<strong data-end="298" data-start="273">state-elected leaders</strong>&nbsp\;will provide a recap of the legislative session\, including key legislation that was passed and its impact on our community.<br />\n&nbsp\;\n<p data-end="593" data-start="426">&#128197\;&nbsp\;<strong data-end="438" data-start="429">Date:</strong>&nbsp\;May 19\, 2026<br data-end="455" data-start="452" />\n&#128205\;&nbsp\;<strong data-end="471" data-start="458">Location:</strong>&nbsp\;Crowder College | Farber Building | Wright Conference Room</p>\n\n<p data-end="657" data-start="595">&#128682\;&nbsp\;<strong data-end="613" data-start="598">Doors Open:</strong>&nbsp\;10:00 AM<br data-end="625" data-start="622" />\n&#129374\;&nbsp\;<strong data-end="646" data-start="628">Brunch Begins:</strong>&nbsp\;10:15 AM</p>\n\n<p data-end="723" data-start="659">&#127903\;&nbsp\;<strong data-end="674" data-start="662">Tickets:</strong><br data-end="677" data-start="674" />\n&#128313\;&nbsp\;$20</p>\n\n<p data-end="771" data-start="725"><strong data-end="742" data-start="725">Presented by:</strong>&nbsp\;<em data-end="769" data-start="743">Community Bank and Trust</em></p>\n\n<p data-end="941" data-start="773">Don&#39\;t miss this opportunity to hear directly from our state representatives and senator about the decisions made in&nbsp\;<strong data-end="907" data-start="889">Jefferson City</strong>&nbsp\;and how they affect our region.</p>\n\n<p data-end="979" data-start="943">&#128204\; RSVP today to secure your seat!</p>\n
LOCATION:Crowder College Farber Building Wright Conference Room
UID:e.2144.19214
SEQUENCE:3
DTSTAMP:20260420T063728Z
URL:https://neoshocc.com/events/details/eggs-issues-legislative-update-2026-19214
END:VEVENT

END:VCALENDAR
