BEGIN:VCALENDAR
VERSION:2.0
PRODID:-//ChamberMaster//Event Calendar 2.0//EN
METHOD:PUBLISH
X-PUBLISHED-TTL:P3D
REFRESH-INTERVAL:P3D
CALSCALE:GREGORIAN
BEGIN:VEVENT
DTSTART:20210212T163000Z
DTEND:20210212T180000Z
X-MICROSOFT-CDO-ALLDAYEVENT:FALSE
SUMMARY:Eggs & Issues Legislative Forum 2021 - Carthage
DESCRIPTION:Eggs & Issues Legislative Forum 2021\n\nHosted by Carthage Chamber of Commerce\n\nFriday\, February 12th\, Doors open at 10:15 a.m.\n\nMemorial Hall - 407 S Garrison\, Carthage\, MO\n\nFree - Coffee provided\n\nJoin the Carthage Chamber of Commerce to hear from our state legislators on what is expected in Jefferson City this session.\n\n Please RSVP by contacting Sally at 417-3582373 or scurrence@carthagechamber.com.\n\n This series will keep business leaders up to date and involved on legislative issues.\n\nAdditional Upcoming Sessions\n\n                 March 19   Webb City/Carl Junction\n\n                 April 16   Joplin\n\n                 May 18   Neosho
X-ALT-DESC;FMTTYPE=text/html:<p style="margin: 0px 0px 24px\; padding: 0px\; border: 0px\; vertical-align: baseline\; color: rgb(99\, 132\, 161)\; font-size: medium\; line-height: 24px\; font-family: proxima-nova\, sans-serif\;">Eggs &amp\; Issues&nbsp\;Legislative Forum 2021</p>\n\n<p style="margin: 0px 0px 24px\; padding: 0px\; border: 0px\; vertical-align: baseline\; color: rgb(99\, 132\, 161)\; font-size: medium\; line-height: 24px\; font-family: proxima-nova\, sans-serif\;">Hosted by Carthage Chamber of Commerce</p>\n\n<p style="margin: 0px 0px 24px\; padding: 0px\; border: 0px\; vertical-align: baseline\; color: rgb(99\, 132\, 161)\; font-size: medium\; line-height: 24px\; font-family: proxima-nova\, sans-serif\;">Friday\, February 12th\,&nbsp\;Doors open at 10:15 a.m.</p>\n\n<p style="margin: 0px 0px 24px\; padding: 0px\; border: 0px\; vertical-align: baseline\; color: rgb(99\, 132\, 161)\; font-size: medium\; line-height: 24px\; font-family: proxima-nova\, sans-serif\;">Memorial Hall -&nbsp\;407 S Garrison\, Carthage\, MO</p>\n\n<p style="margin: 0px 0px 24px\; padding: 0px\; border: 0px\; vertical-align: baseline\; color: rgb(99\, 132\, 161)\; font-size: medium\; line-height: 24px\; font-family: proxima-nova\, sans-serif\;">Free - Coffee provided</p>\n\n<p style="margin: 0px 0px 24px\; padding: 0px\; border: 0px\; vertical-align: baseline\; color: rgb(99\, 132\, 161)\; font-size: medium\; line-height: 24px\; font-family: proxima-nova\, sans-serif\;">Join the Carthage Chamber of Commerce to hear from our state legislators&nbsp\;on what is expected in Jefferson City this session.</p>\n\n<p style="margin: 0px 0px 24px\; padding: 0px\; border: 0px\; vertical-align: baseline\; color: rgb(99\, 132\, 161)\; font-size: medium\; line-height: 24px\; font-family: proxima-nova\, sans-serif\;">&nbsp\;Please RSVP by contacting Sally at 417-3582373 or scurrence@carthagechamber.com.</p>\n\n<p style="margin: 0px 0px 24px\; padding: 0px\; border: 0px\; vertical-align: baseline\; color: rgb(99\, 132\, 161)\; font-size: medium\; line-height: 24px\; font-family: proxima-nova\, sans-serif\;">&nbsp\;This series will keep business leaders up to date and involved on legislative issues.</p>\n\n<p style="margin: 0px 0px 24px\; padding: 0px\; border: 0px\; vertical-align: baseline\; color: rgb(99\, 132\, 161)\; font-size: medium\; line-height: 24px\; font-family: proxima-nova\, sans-serif\;">Additional Upcoming Sessions</p>\n\n<p style="margin: 0px 0px 24px\; padding: 0px\; border: 0px\; vertical-align: baseline\; color: rgb(99\, 132\, 161)\; font-size: medium\; line-height: 24px\; font-family: proxima-nova\, sans-serif\;">&nbsp\;&nbsp\;&nbsp\;&nbsp\;&nbsp\;&nbsp\;&nbsp\;&nbsp\;&nbsp\;&nbsp\;&nbsp\;&nbsp\;&nbsp\;&nbsp\;&nbsp\;&nbsp\; March 19 &mdash\; Webb City/Carl Junction</p>\n\n<p style="margin: 0px 0px 24px\; padding: 0px\; border: 0px\; vertical-align: baseline\; color: rgb(99\, 132\, 161)\; font-size: medium\; line-height: 24px\; font-family: proxima-nova\, sans-serif\;">&nbsp\;&nbsp\;&nbsp\;&nbsp\;&nbsp\;&nbsp\;&nbsp\;&nbsp\;&nbsp\;&nbsp\;&nbsp\;&nbsp\;&nbsp\;&nbsp\;&nbsp\;&nbsp\; April 16 &mdash\; Joplin</p>\n\n<p style="margin: 0px 0px 24px\; padding: 0px\; border: 0px\; vertical-align: baseline\; color: rgb(99\, 132\, 161)\; font-size: medium\; line-height: 24px\; font-family: proxima-nova\, sans-serif\;">&nbsp\;&nbsp\;&nbsp\;&nbsp\;&nbsp\;&nbsp\;&nbsp\;&nbsp\;&nbsp\;&nbsp\;&nbsp\;&nbsp\;&nbsp\;&nbsp\;&nbsp\;&nbsp\; May 18 &mdash\; Neosho</p>\n
LOCATION:Memorial Hall - 407 S Garrison\, Carthage\, MO
UID:e.2144.7216
SEQUENCE:3
DTSTAMP:20260423T224424Z
URL:https://neoshocc.com/events/details/eggs-issues-legislative-forum-2021-carthage-7216
END:VEVENT

END:VCALENDAR
