BEGIN:VCALENDAR
VERSION:2.0
PRODID:-//ChamberMaster//Event Calendar 2.0//EN
METHOD:PUBLISH
X-PUBLISHED-TTL:P3D
REFRESH-INTERVAL:P3D
CALSCALE:GREGORIAN
BEGIN:VEVENT
DTSTART:20160212T161500Z
DTEND:20160212T180000Z
X-MICROSOFT-CDO-ALLDAYEVENT:FALSE
SUMMARY:Eggs & Issues- Carthage
DESCRIPTION:Carthage will be hosting this month's Eggs & Issues.  Please RSVP by February 4th.
X-ALT-DESC;FMTTYPE=text/html:Carthage will be hosting this month&#39\;s Eggs &amp\; Issues.&nbsp\; Please RSVP by February 4th.
LOCATION:
UID:e.2144.1544
SEQUENCE:3
DTSTAMP:20260421T142420Z
URL:https://neoshocc.com/events/details/eggs-issues-carthage-02-12-2016-1544
END:VEVENT

END:VCALENDAR
