BEGIN:VCALENDAR
VERSION:2.0
PRODID:-//ChamberMaster//Event Calendar 2.0//EN
METHOD:PUBLISH
X-PUBLISHED-TTL:P3D
REFRESH-INTERVAL:P3D
CALSCALE:GREGORIAN
BEGIN:VEVENT
DTSTART:20260401T150000Z
DTEND:20260401T170000Z
X-MICROSOFT-CDO-ALLDAYEVENT:FALSE
SUMMARY:Easter Egg Hunt After Storytime
DESCRIPTION:Join us after Storytime for an Easter Egg Hunt! \n\nAges 3-5
X-ALT-DESC;FMTTYPE=text/html:<h3>Join us after Storytime for an Easter Egg Hunt!&nbsp\;</h3>\n\n<h3>Ages 3-5</h3>\n
LOCATION:201 West Spring Street Neosho\, MO 64850
UID:e.2144.19237
SEQUENCE:3
DTSTAMP:20260420T031143Z
URL:https://neoshocc.com/events/details/easter-egg-hunt-after-storytime-19237
END:VEVENT

END:VCALENDAR
