BEGIN:VCALENDAR
VERSION:2.0
PRODID:-//ChamberMaster//Event Calendar 2.0//EN
METHOD:PUBLISH
X-PUBLISHED-TTL:P3D
REFRESH-INTERVAL:P3D
CALSCALE:GREGORIAN
BEGIN:VEVENT
DTSTART:20160326T173000Z
DTEND:20160326T200000Z
X-MICROSOFT-CDO-ALLDAYEVENT:FALSE
SUMMARY:Easter Egg Hunt
DESCRIPTION:Community-wide Easter Egg Hunt for ages 2-13 at Morse Park North in Neosho. Bring your own basket\, and come meet the Easter Bunny\, enjoy playground inflatables\, popcorn\, cotton candy\, and lots of fun. Everyone welcome. Registration begins at 12:30pm. Sponsored by the Gospel Lighthouse Church\, Neosho.
X-ALT-DESC;FMTTYPE=text/html:Community-wide Easter Egg Hunt for ages 2-13 at Morse Park North in Neosho. Bring your own basket\, and come meet the Easter Bunny\, enjoy playground inflatables\, popcorn\, cotton candy\, and lots of fun. Everyone welcome. Registration begins at 12:30pm. Sponsored by the Gospel Lighthouse Church\, Neosho.
LOCATION:Morse Park North\, Neosho
UID:e.2144.1623
SEQUENCE:3
DTSTAMP:20260421T114440Z
URL:https://neoshocc.com/events/details/easter-egg-hunt-03-26-2016-1623
END:VEVENT

END:VCALENDAR
