BEGIN:VCALENDAR
VERSION:2.0
PRODID:-//ChamberMaster//Event Calendar 2.0//EN
METHOD:PUBLISH
X-PUBLISHED-TTL:P3D
REFRESH-INTERVAL:P3D
CALSCALE:GREGORIAN
BEGIN:VEVENT
DTSTART:20220512T130000Z
DTEND:20220512T140000Z
X-MICROSOFT-CDO-ALLDAYEVENT:FALSE
SUMMARY:E-Commerce Meet-up - Urban Cycling Apparel
DESCRIPTION:E-Commerce Meet Up is a monthly get-together on the 2nd Thursday every month.\n\nJoin fellow entrepreneurs for discussion on the following topics: \n\nAmazon Seller Central | Shopify | Walmart.com | eBay | Shopping Cart Abandonment | FBA & 3rd Party Fulfillment | Shipping Software | Retargeting Pixels | Google Shopping | Product Feeds | SEO | Product Photography and Video Production | Social & Search Marketing | Etsy | Omni-Channel Sales\n\n\n\nHosted by the Joplin Area Chamber of Commerce in partnership with the Neosho Area Chamber of Commerce\, Carl Junction Area Chamber of Commerce\, Carthage Area Chamber of Commerce & Barton County Chamber of Commerce
X-ALT-DESC;FMTTYPE=text/html:<p style="overflow-wrap: break-word\; background: 0px 0px rgb(255\, 255\, 255)\; border: 1px\; margin: 0px\; padding: 0px\; vertical-align: baseline\; outline: 0px\; font-size: 14px\; line-height: normal\; font-variant-numeric: normal\; font-variant-east-asian: normal\; font-stretch: inherit\; font-family: &quot\;Open Sans&quot\;\, Nobile\; box-sizing: border-box\; letter-spacing: 0.35px\;">E-Commerce Meet Up is a monthly get-together on the 2nd&nbsp\;Thursday every month.</p>\n\n<p style="overflow-wrap: break-word\; background: 0px 0px rgb(255\, 255\, 255)\; border: 1px\; margin: 0px\; padding: 0px\; vertical-align: baseline\; outline: 0px\; font-size: 14px\; line-height: normal\; font-variant-numeric: normal\; font-variant-east-asian: normal\; font-stretch: inherit\; font-family: &quot\;Open Sans&quot\;\, Nobile\; box-sizing: border-box\; letter-spacing: 0.35px\;">Join fellow entrepreneurs for discussion on the following topics:&nbsp\;</p>\n\n<p style="overflow-wrap: break-word\; background: 0px 0px rgb(255\, 255\, 255)\; border: 1px\; margin: 0px\; padding: 0px\; vertical-align: baseline\; outline: 0px\; font-size: 14px\; line-height: normal\; font-variant-numeric: normal\; font-variant-east-asian: normal\; font-stretch: inherit\; font-family: &quot\;Open Sans&quot\;\, Nobile\; box-sizing: border-box\; letter-spacing: 0.35px\;">Amazon Seller Central | Shopify | Walmart.com | eBay | Shopping Cart Abandonment | FBA &amp\; 3rd Party Fulfillment | Shipping Software | Retargeting Pixels | Google Shopping | Product Feeds | SEO | Product Photography and Video Production | Social &amp\; Search Marketing | Etsy | Omni-Channel Sales<br />\n<br />\nHosted by the Joplin Area Chamber of Commerce in partnership with the Neosho Area Chamber of Commerce\, Carl Junction Area Chamber of Commerce\, Carthage Area Chamber of Commerce &amp\; Barton County Chamber of Commerce</p>\n
LOCATION:Urban Cycling Apparel 107 West 2nd Street Webb City\, MO 64870
UID:e.2144.8289
SEQUENCE:3
DTSTAMP:20260424T074001Z
URL:https://neoshocc.com/events/details/e-commerce-meet-up-urban-cycling-apparel-8289
END:VEVENT

END:VCALENDAR
