BEGIN:VCALENDAR
VERSION:2.0
PRODID:-//ChamberMaster//Event Calendar 2.0//EN
METHOD:PUBLISH
X-PUBLISHED-TTL:P3D
REFRESH-INTERVAL:P3D
CALSCALE:GREGORIAN
BEGIN:VEVENT
DTSTART:20210211T140000Z
DTEND:20210211T150000Z
X-MICROSOFT-CDO-ALLDAYEVENT:FALSE
SUMMARY:E-Commerce Meet-Up ONLINE ONLY DUE TO WEATHER
DESCRIPTION:E-Commerce Meet Up is a monthly get-together on the 2nd Thursday every month.\n\nJoin JACC President Toby Teeter for discussion on the following topics:\n\nAmazon Seller Central | Shopify | Walmart.com | eBay | Shopping Cart Abandonment | FBA & 3rd Party Fulfillment | Shipping Software | Retargeting Pixels | Google Shopping | Product Feeds | SEO | Product Photography and Video Production | Social & Search Marketing | Etsy | Omni-Channel Sales
X-ALT-DESC;FMTTYPE=text/html:<p style="background: 0px 0px rgb(255\, 255\, 255)\; border: 1px\; margin: 0px\; padding: 0px\; vertical-align: baseline\; outline: 0px\; font-size: 14px\; line-height: normal\; font-variant-numeric: normal\; font-variant-east-asian: normal\; font-stretch: inherit\; font-family: &quot\;Open Sans&quot\;\, Nobile\; box-sizing: border-box\; letter-spacing: 0.35px\;">E-Commerc<span style="letter-spacing: 0.35px\;">e Meet Up is a monthly</span><span style="letter-spacing: 0.35px\;">&nbsp\;get-together on the 2nd&nbsp\;Thursday every month.</span></p>\n\n<p style="background: 0px 0px rgb(255\, 255\, 255)\; border: 1px\; margin: 0px\; padding: 0px\; vertical-align: baseline\; outline: 0px\; font-size: 14px\; line-height: normal\; font-variant-numeric: normal\; font-variant-east-asian: normal\; font-stretch: inherit\; font-family: &quot\;Open Sans&quot\;\, Nobile\; box-sizing: border-box\; letter-spacing: 0.35px\;">Join JACC President Toby Teeter for discussion on the following topics:</p>\n\n<p style="background: 0px 0px rgb(255\, 255\, 255)\; border: 1px\; margin: 0px\; padding: 0px\; vertical-align: baseline\; outline: 0px\; font-size: 14px\; line-height: normal\; font-variant-numeric: normal\; font-variant-east-asian: normal\; font-stretch: inherit\; font-family: &quot\;Open Sans&quot\;\, Nobile\; box-sizing: border-box\; letter-spacing: 0.35px\;">Amazon Seller Central | Shopify | Walmart.com | eBay | Shopping Cart Abandonment | FBA &amp\; 3rd Party Fulfillment | Shipping Software | Retargeting Pixels | Google Shopping | Product Feeds | SEO | Product Photography and Video Production | Social &amp\; Search Marketing | Etsy | Omni-Channel Sales</p>\n
LOCATION:ONLINE\, Register to receive Online LINK
UID:e.2144.7240
SEQUENCE:3
DTSTAMP:20260423T224835Z
URL:https://neoshocc.com/events/details/e-commerce-meet-up-online-only-due-to-weather-7240
END:VEVENT

END:VCALENDAR
