BEGIN:VCALENDAR
VERSION:2.0
PRODID:-//ChamberMaster//Event Calendar 2.0//EN
METHOD:PUBLISH
X-PUBLISHED-TTL:P3D
REFRESH-INTERVAL:P3D
CALSCALE:GREGORIAN
BEGIN:VEVENT
DTSTART:20220113T140000Z
DTEND:20220114T030000Z
X-MICROSOFT-CDO-ALLDAYEVENT:FALSE
SUMMARY:E-Commerce Meet Up
DESCRIPTION:Join area entrepreneurs this week for ecommerce meet-up at Mass Depot. In recent years\, Mass Depot has emerged as one of the areas leading online e-commerce stores with millions of dollars in sales to date! Don't miss out!
X-ALT-DESC;FMTTYPE=text/html:Join area entrepreneurs this week for ecommerce meet-up at Mass Depot. In recent years\, Mass Depot has emerged as one of the areas leading online e-commerce stores with millions of dollars in sales to date! Don&#39\;t miss out!
LOCATION:Mass Depot 4500 Doniphan Drive Neosho MO 64850
UID:e.2144.8142
SEQUENCE:3
DTSTAMP:20260424T014002Z
URL:https://neoshocc.com/events/details/e-commerce-meet-up-8142
END:VEVENT

END:VCALENDAR
