BEGIN:VCALENDAR
VERSION:2.0
PRODID:-//ChamberMaster//Event Calendar 2.0//EN
METHOD:PUBLISH
X-PUBLISHED-TTL:P3D
REFRESH-INTERVAL:P3D
CALSCALE:GREGORIAN
BEGIN:VEVENT
DTSTART:20141115T230000Z
DTEND:20141116T050000Z
X-MICROSOFT-CDO-ALLDAYEVENT:FALSE
SUMMARY:Drive to Feed Kids Cowboy Couture Gala
DESCRIPTION:Drive to Feed Kids Cowboy Couture Gala will be held at Downstream Casino.  All proceeds donated to area weekend backpack programs in Carl Junction\, Carthage\, East Newton\, Joplin\, Monett\, Neosho\, Seneca & Webb City.
X-ALT-DESC;FMTTYPE=text/html:Drive to Feed&nbsp\;Kids Cowboy Couture Gala will be held at Downstream Casino.&nbsp\; All proceeds donated to area weekend backpack programs in Carl Junction\, Carthage\, East Newton\, Joplin\, Monett\, Neosho\, Seneca &amp\; Webb City.
LOCATION:Downstream Casino
UID:e.2144.69
SEQUENCE:3
DTSTAMP:20260422T134324Z
URL:https://neoshocc.com/events/details/drive-to-feed-kids-cowboy-couture-gala-11-15-2014-69
END:VEVENT

END:VCALENDAR
