BEGIN:VCALENDAR
VERSION:2.0
PRODID:-//ChamberMaster//Event Calendar 2.0//EN
METHOD:PUBLISH
X-PUBLISHED-TTL:P3D
REFRESH-INTERVAL:P3D
CALSCALE:GREGORIAN
BEGIN:VEVENT
DTSTART:20160118T160000Z
DTEND:20160118T230000Z
X-MICROSOFT-CDO-ALLDAYEVENT:FALSE
SUMMARY:Dr. Martin Luther King Jr. Day of Service
DESCRIPTION:MSSU faculty\, staff\, students and the surrounding community will have the opportunity to serve the area by performing acts of service at an organization of thier choice or from a list of area non-profit organizations that have requested volunteers for that day. The names of the non-profit organizations and times of service will be posted on the Missouri Southern State University MLK website in December. Service times will vary depending on the location. Children may be welcome to serve at some specific locations (to be noted on the website). You may sign up for service by attending the Volunteer and Resource Fair at MSSU on Nov. 19th from 10:00 - 2:00 on the 2nd floor of Billingsly Student Center\, by completing the form online at www.mssu.edu/mlk\, or by contacting Faustina Abrahams at 417-625-8521 or abrahams-f@mssu.edu.
X-ALT-DESC;FMTTYPE=text/html:MSSU faculty\, staff\, students and the surrounding community will have the opportunity to serve the area by performing acts of service at an organization of thier choice or from a list of area non-profit organizations that have requested volunteers for that day. The names of the non-profit organizations and times of service will be posted on the Missouri Southern State University MLK website in December. Service times will vary depending on the location. Children may be welcome to serve at some specific locations (to be noted on the website). You may sign up for service by attending the Volunteer and Resource Fair at MSSU on Nov. 19th from 10:00 - 2:00 on the 2nd floor of Billingsly Student Center\, by completing the form online at www.mssu.edu/mlk\, or by contacting Faustina Abrahams at 417-625-8521 or abrahams-f@mssu.edu.
LOCATION:Locations will vary
UID:e.2144.1503
SEQUENCE:3
DTSTAMP:20260421T144441Z
URL:https://neoshocc.com/events/details/dr-martin-luther-king-jr-day-of-service-01-18-2016-1503
END:VEVENT

END:VCALENDAR
