BEGIN:VCALENDAR
VERSION:2.0
PRODID:-//ChamberMaster//Event Calendar 2.0//EN
METHOD:PUBLISH
X-PUBLISHED-TTL:P3D
REFRESH-INTERVAL:P3D
CALSCALE:GREGORIAN
BEGIN:VEVENT
DTSTART:20160118T140000Z
DTEND:20160118T160000Z
X-MICROSOFT-CDO-ALLDAYEVENT:FALSE
SUMMARY:Dr. Martin Luther King Jr. Day Celebration Breakfast
DESCRIPTION:A breakfast celebration to honor Dr. Martin Luther King Jr. Guest Speaker: Judge Jimmy Edwards\, 22nd Judicial Circuit of Missouri\, St. Louis and founder of Innovative Concept Academy.
X-ALT-DESC;FMTTYPE=text/html:A breakfast celebration to honor Dr. Martin Luther King Jr. Guest Speaker: Judge Jimmy Edwards\, 22nd Judicial Circuit of Missouri\, St. Louis and founder of Innovative Concept Academy.
LOCATION:MSSU Billingsly Student Center 3rd Floor Ballroom
UID:e.2144.1502
SEQUENCE:3
DTSTAMP:20260421T144328Z
URL:https://neoshocc.com/events/details/dr-martin-luther-king-jr-day-celebration-breakfast-01-18-2016-1502
END:VEVENT

END:VCALENDAR
