BEGIN:VCALENDAR
VERSION:2.0
PRODID:-//ChamberMaster//Event Calendar 2.0//EN
METHOD:PUBLISH
X-PUBLISHED-TTL:P3D
REFRESH-INTERVAL:P3D
CALSCALE:GREGORIAN
BEGIN:VEVENT
DTSTART:20151208T233000Z
DTEND:20151209T020000Z
X-MICROSOFT-CDO-ALLDAYEVENT:FALSE
SUMMARY:Dr Kent Farnsworth Book Talk & Signing
DESCRIPTION:Dr. Kent Farnsworth Book Talk & Signing
X-ALT-DESC;FMTTYPE=text/html:Dr. Kent Farnsworth Book Talk &amp\; Signing
LOCATION:Crowder College/Elsie Plaster Community Center/Longwell Museum
UID:e.2144.1512
SEQUENCE:3
DTSTAMP:20260421T172636Z
URL:https://neoshocc.com/events/details/dr-kent-farnsworth-book-talk-signing-12-08-2015-1512
END:VEVENT

END:VCALENDAR
