BEGIN:VCALENDAR
VERSION:2.0
PRODID:-//ChamberMaster//Event Calendar 2.0//EN
METHOD:PUBLISH
X-PUBLISHED-TTL:P3D
REFRESH-INTERVAL:P3D
CALSCALE:GREGORIAN
BEGIN:VEVENT
DTSTART:20190823T000000Z
DTEND:20190823T010000Z
X-MICROSOFT-CDO-ALLDAYEVENT:FALSE
SUMMARY:Downtown Free Fit Camp
DESCRIPTION:Join Downtown Nutrition for a free Fit Camp every Thursday at 7:00pm. Enjoy a 30-45 minute outdoor workout in Historic Downtown Neosho. Bring a water bottle and a mat. All fitness levels welcome. Shakes and teas will be available for purchase before and after the workout.
X-ALT-DESC;FMTTYPE=text/html:Join Downtown Nutrition for a free Fit Camp every Thursday at 7:00pm. Enjoy a 30-45 minute outdoor workout in Historic Downtown Neosho. Bring a water bottle and a mat. All fitness levels welcome. Shakes and teas will be available for purchase before and after the workout.&nbsp\;
LOCATION:Downtown Nutrition SWMO 210 East Main Street Neosho\, Missouri 64850
UID:e.2144.2705
SEQUENCE:3
DTSTAMP:20260421T084843Z
URL:https://neoshocc.com/events/details/downtown-free-fit-camp-2705
END:VEVENT

END:VCALENDAR
