BEGIN:VCALENDAR
VERSION:2.0
PRODID:-//ChamberMaster//Event Calendar 2.0//EN
METHOD:PUBLISH
X-PUBLISHED-TTL:P3D
REFRESH-INTERVAL:P3D
CALSCALE:GREGORIAN
BEGIN:VEVENT
DTSTART:20210927T223000Z
DTEND:20210929T000000Z
X-MICROSOFT-CDO-ALLDAYEVENT:FALSE
SUMMARY:Disney's Frozen JR Auditions\, Crowder College Theatre
DESCRIPTION:Crowder College Theatre will host auditions (actors 5+) for Disney's Frozen JR September 27-28\, 5:30pm - 7pm at\n\nElsie Plaster Community Center (Crowder College\, 601 Laclede Ave.\, Neosho\, MO). Actors should prepare 1 min monologue and a song of choice. \n\n\n\nDirectors: NaTasha O'Brien-Davies & Shirley Gollhofer\n\nMusic Director: Becky Shaw\n\nShow Dates: 12/1 - 12/4\n\nRated: G
X-ALT-DESC;FMTTYPE=text/html:Crowder College Theatre will host auditions (actors 5+) for Disney&#39\;s Frozen JR&nbsp\;September 27-28\,&nbsp\;5:30pm - 7pm at<br />\nElsie Plaster Community Center (Crowder College\, 601 Laclede Ave.\, Neosho\, MO).&nbsp\;Actors should prepare 1 min monologue and a song of choice.&nbsp\;<br />\n<br />\nDirectors: NaTasha O&rsquo\;Brien-Davies &amp\; Shirley Gollhofer<br />\nMusic Director: Becky Shaw<br />\nShow Dates: 12/1 - 12/4<br />\nRated: G
LOCATION:Elsie Plaster Community Center (Crowder College\, 601 Laclede Ave.\, Neosho\, MO)
UID:e.2144.7883
SEQUENCE:3
DTSTAMP:20260423T194511Z
URL:https://neoshocc.com/events/details/disney-s-frozen-jr-auditions-crowder-college-theatre-7883
END:VEVENT

END:VCALENDAR
