BEGIN:VCALENDAR
VERSION:2.0
PRODID:-//ChamberMaster//Event Calendar 2.0//EN
METHOD:PUBLISH
X-PUBLISHED-TTL:P3D
REFRESH-INTERVAL:P3D
CALSCALE:GREGORIAN
BEGIN:VEVENT
DTSTART:20160514T140000Z
DTEND:20160514T160000Z
X-MICROSOFT-CDO-ALLDAYEVENT:FALSE
SUMMARY:Discover Nature - Fishing: Lesson 1
DESCRIPTION:Lesson 1: Equipment\, Casting and Proper Fish Handling combines instruction with hands-on fishing to teach young anglers and families basic fishing techniques and skills. Participants will learn how to properly and safely cast a spincast fishing pole\, parts of a fishing pole\, how to fasten basic fishing tackle and how to properly handle and release a fish. Participants are limited to anglers ages 7 ? 15 and families with children. Fishing equipment\, instructors/coaches and bait/lures will be provided. Adults who do not wish to fish must accompany their child(ren) at all times. For reservation\, please call (417) 895-6880. For more information on Discover Nature-Fishing please visit http://mdc.mo.gov/node/27175
X-ALT-DESC;FMTTYPE=text/html:Lesson 1: Equipment\, Casting and Proper Fish Handling combines instruction with hands-on fishing to teach young anglers and families basic fishing techniques and skills. Participants will learn how to properly and safely cast a spincast fishing pole\, parts of a fishing pole\, how to fasten basic fishing tackle and how to properly handle and release a fish. Participants are limited to anglers ages 7 ? 15 and families with children. Fishing equipment\, instructors/coaches and bait/lures will be provided. Adults who do not wish to fish must accompany their child(ren) at all times. For reservation\, please call (417) 895-6880. For more information on Discover Nature-Fishing please visit http://mdc.mo.gov/node/27175
LOCATION:Walter Woods Conservation Area 6706 W Dutch Elm Drive Joplin\, MO 64804
UID:e.2144.1602
SEQUENCE:3
DTSTAMP:20260421T123608Z
URL:https://neoshocc.com/events/details/discover-nature-fishing-lesson-1-05-14-2016-1602
END:VEVENT

END:VCALENDAR
