BEGIN:VCALENDAR
VERSION:2.0
PRODID:-//ChamberMaster//Event Calendar 2.0//EN
METHOD:PUBLISH
X-PUBLISHED-TTL:P3D
REFRESH-INTERVAL:P3D
CALSCALE:GREGORIAN
BEGIN:VEVENT
DTSTART;VALUE=DATE:20141204
DTEND;VALUE=DATE:20141207
TRANSP:TRANSPARENT
X-MICROSOFT-CDO-ALLDAYEVENT:TRUE
SUMMARY:Dickens Christmas Faire Holiday Market
DESCRIPTION:Don't miss this exciting\, holiday weekend Downtown with activities including: Christmas Park Lighting\, Breakfast with Santa\, the Christmas Parade and much more!
X-ALT-DESC;FMTTYPE=text/html:<span style="font-family: tahoma\;"><span style="font-size: 14px\;"><span style="font-weight: bold\; language: en-US\;"><span style="color: rgb(15\, 97\, 23)\;">Don&rsquo\;t miss this exciting\, holiday weekend Downtown with activities including: Christmas Park Lighting\, Breakfast with Santa\, the Christmas Parade and much more!</span></span></span></span><br />\n&nbsp\;
LOCATION:Mills Park Centre 100 N. College Street Neosho\, Mo 64850
UID:e.2144.35
SEQUENCE:3
DTSTAMP:20260422T104301Z
URL:https://neoshocc.com/events/details/dickens-christmas-faire-holiday-market-12-04-2014-35
END:VEVENT

END:VCALENDAR
