BEGIN:VCALENDAR
VERSION:2.0
PRODID:-//ChamberMaster//Event Calendar 2.0//EN
METHOD:PUBLISH
X-PUBLISHED-TTL:P3D
REFRESH-INTERVAL:P3D
CALSCALE:GREGORIAN
BEGIN:VEVENT
DTSTART:20250928T010000Z
DTEND:20250928T040000Z
X-MICROSOFT-CDO-ALLDAYEVENT:FALSE
SUMMARY:Devin Hames LIve at Osage Spring
DESCRIPTION:This Neosho-based country rock band has an old- time sound and sings a mix of unique originals and hit country covers.
X-ALT-DESC;FMTTYPE=text/html:<span style="background-color:rgb(107\, 39\, 38)\; color:rgb(220\, 73\, 71)\; font-family:acumin-pro\; font-size:16.16px">This </span><strong><em>Neosho-based country rock band</em></strong><span style="background-color:rgb(107\, 39\, 38)\; color:rgb(220\, 73\, 71)\; font-family:acumin-pro\; font-size:16.16px"> has an old- time sound and sings a mix of unique originals and hit country covers.</span>
LOCATION:200 e Spring Street Neosho\, MO 64850
UID:e.2144.18494
SEQUENCE:3
DTSTAMP:20260424T042833Z
URL:https://neoshocc.com/events/details/devin-hames-live-at-osage-spring-18494
END:VEVENT

END:VCALENDAR
