BEGIN:VCALENDAR
VERSION:2.0
PRODID:-//ChamberMaster//Event Calendar 2.0//EN
METHOD:PUBLISH
X-PUBLISHED-TTL:P3D
REFRESH-INTERVAL:P3D
CALSCALE:GREGORIAN
BEGIN:VEVENT
DTSTART:20190615T160000Z
DTEND:20190615T170000Z
X-MICROSOFT-CDO-ALLDAYEVENT:FALSE
SUMMARY:Dedication of the Neosho Patriot's Memorial
DESCRIPTION:The Neosho Exchange Club\n\nInvites you to the Dedication of the\n\nNeosho Patriot's Memorial\n\nSaturday\, June 15th 2019\n\nDedication Program starts at 11:00am\n\n(You are welcome to join us again at sunset for a Special lighting of the Flag)\n\nPlease join us at the south end of La Questa Drive for the dedication of this Memorial dedicated to the Men and Women that have served our country and our communities.
X-ALT-DESC;FMTTYPE=text/html:The Neosho Exchange Club<br />\nInvites you to the Dedication of the<br />\nNeosho Patriot&#39\;s Memorial<br />\nSaturday\, June 15th 2019<br />\nDedication Program starts at 11:00am<br />\n(You are welcome to join us again at sunset for a Special lighting of the Flag)<br />\nPlease join us at the south end of La Questa Drive for the dedication of this Memorial dedicated to the Men and Women that have served our country and our communities.
LOCATION:Neosho Patriot's Memorial
UID:e.2144.2541
SEQUENCE:3
DTSTAMP:20260423T225157Z
URL:https://neoshocc.com/events/details/dedication-of-the-neosho-patriot-s-memorial-2541
END:VEVENT

END:VCALENDAR
