BEGIN:VCALENDAR
VERSION:2.0
PRODID:-//ChamberMaster//Event Calendar 2.0//EN
METHOD:PUBLISH
X-PUBLISHED-TTL:P3D
REFRESH-INTERVAL:P3D
CALSCALE:GREGORIAN
BEGIN:VEVENT
DTSTART:20141001T200000Z
DTEND:20141001T200000Z
X-MICROSOFT-CDO-ALLDAYEVENT:FALSE
SUMMARY:Deadline for 2014 CJR Red Carpet Realtor Business of the Year Nominations
DESCRIPTION:Have you had a positive experience with a business or organization in Neosho recently?  Nominations are now being accepted for the Neosho Area Chamber of Commerce's 2014 CJR Red Carpet Realtor Business of the Year award. \n\n\n\nNominations must be received by 3 p.m. on October 1\, 2014. The nominees will be notified by the Chamber and finalists will be announced in November.\n\n\n\nThe CJR Red Carpet Realtor Business of the Year categories are: Small Business of the Year (under 10 employees)\, Large Business of the Year (11 or more employees)\, and Not-for-Profit Organization. The winners will be announced at the 2014 Chamber Banquet on November 20\, 2014. \n\n\n\nHelp us recognize the wonderful businesses and organizations that Neosho is blessed with. Nominate yours today!
X-ALT-DESC;FMTTYPE=text/html:<span style="color: rgb(0\, 0\, 0)\;"><span style="font-size: medium\;"><span style="font-family: times new roman\;">Have you had a positive experience with a business or organization in Neosho recently? &nbsp\;Nominations are now being accepted for the Neosho Area Chamber of Commerce&rsquo\;s 2014 <em><span style="font-size: medium\;">CJR Red Carpet Realtor</span></em> Business of the Year award.&nbsp\;</span></span><br />\n<br />\n<span style="font-size: medium\;"><span style="font-family: times new roman\;">Nominations must be received by 3 p.m. on October 1\, 2014. The nominees will be notified by the Chamber and finalists will be announced in November.<br />\n<br />\nThe <em>CJR Red Carpet Realtor</em> Business of the Year categories are: Small Business of the Year (under 10 employees)\, Large Business of the Year (11 or more employees)\, and Not-for-Profit Organization. The winners will be announced at the 2014 Chamber Banquet on November 20\, 2014. </span></span><br />\n<br />\n<strong><span style="font-size: 18px\;"><span style="font-family: times new roman\,serif\;">Help us recognize the wonderful businesses and organizations that Neosho is blessed with. Nominate yours today!</span></span></strong></span>
LOCATION:Nomination forms may be picked up from CJR Red Carpet Realtor\, 1010 W. Harmony or the Neosho Area Chamber of Commerce\, 216 W. Spring Street. Nomination forms may also be printed online at www.neoshocc.com.
UID:e.2144.40
SEQUENCE:3
DTSTAMP:20260422T134723Z
URL:https://neoshocc.com/events/details/deadline-for-2014-cjr-red-carpet-realtor-business-of-the-year-nominations-10-01-2014-40
END:VEVENT

END:VCALENDAR
