BEGIN:VCALENDAR
VERSION:2.0
PRODID:-//ChamberMaster//Event Calendar 2.0//EN
METHOD:PUBLISH
X-PUBLISHED-TTL:P3D
REFRESH-INTERVAL:P3D
CALSCALE:GREGORIAN
BEGIN:VEVENT
DTSTART:20141205T173000Z
DTEND:20141205T200000Z
X-MICROSOFT-CDO-ALLDAYEVENT:FALSE
SUMMARY:Customer Appreciation Day - Cornerstone Bank of Goodman
DESCRIPTION:You are invited to attend our Customer Appreciation Day at Cornerstone Bank of Goodman!  Friday December 5th 11:30 am to 2:00pm.  Enjoy Free Food & Drinks!
X-ALT-DESC;FMTTYPE=text/html:You are invited to attend our Customer Appreciation Day at Cornerstone Bank of Goodman!&nbsp\; Friday December 5th 11:30 am to 2:00pm.&nbsp\; Enjoy Free Food &amp\; Drinks!
LOCATION:Cornerstone Bank of Goodman 120 North Roy Hill Blvd Goodman\, MO
UID:e.2144.93
SEQUENCE:3
DTSTAMP:20260422T104730Z
URL:https://neoshocc.com/events/details/customer-appreciation-day-cornerstone-bank-of-goodman-12-05-2014-93
END:VEVENT

END:VCALENDAR
