BEGIN:VCALENDAR
VERSION:2.0
PRODID:-//ChamberMaster//Event Calendar 2.0//EN
METHOD:PUBLISH
X-PUBLISHED-TTL:P3D
REFRESH-INTERVAL:P3D
CALSCALE:GREGORIAN
BEGIN:VEVENT
DTSTART:20210607T233000Z
DTEND:20210608T010000Z
X-MICROSOFT-CDO-ALLDAYEVENT:FALSE
SUMMARY:Cub Scouts Bike Rodeo
DESCRIPTION:Does it have wheels\, yet no motor? Then bring it and your helmet to Morse Bike Park on Monday\, June 7th from 6:30-8:00 P.M. There will be challenges and fun for all boys and girls\, ages 6-12 years old. Pack 34 can't wait to see you! You don't have to be a scout to attend-- all are welcome! **Troop 34 will be selling Dutch Oven Desserts\, so come hungry!**
X-ALT-DESC;FMTTYPE=text/html:Does it have wheels\, yet no motor? Then bring it and your helmet to Morse Bike Park on Monday\, June 7th from 6:30-8:00 P.M. There will be challenges and fun for all boys and girls\, ages 6-12 years old. Pack 34 can&#39\;t wait to see you! You don&#39\;t have to be a scout to attend-- all are welcome! **Troop 34 will be selling Dutch Oven Desserts\, so come hungry!**
LOCATION:Where: Morse Bike Park\, Lampo Building Parking Lot\, East Spring Street
UID:e.2144.7652
SEQUENCE:3
DTSTAMP:20260423T150144Z
URL:https://neoshocc.com/events/details/cub-scouts-bike-rodeo-7652
END:VEVENT

END:VCALENDAR
