BEGIN:VCALENDAR
VERSION:2.0
PRODID:-//ChamberMaster//Event Calendar 2.0//EN
METHOD:PUBLISH
X-PUBLISHED-TTL:P3D
REFRESH-INTERVAL:P3D
CALSCALE:GREGORIAN
BEGIN:VEVENT
DTSTART:20140920T010000Z
DTEND:20140920T030000Z
X-MICROSOFT-CDO-ALLDAYEVENT:FALSE
SUMMARY:Cruz SMB Nite
DESCRIPTION:Cruz SMB Nite sponsored by Southwest Missouri Bank will be held at 110 N. Neosho Blvd\, Friday\, September 19th\, 2014 at 6:00pm.  Cruise in and enjoy Great Food\, Music & Prizes!
X-ALT-DESC;FMTTYPE=text/html:Cruz SMB Nite sponsored by Southwest Missouri Bank will be held at 110 N. Neosho Blvd\, Friday\, September 19th\, 2014 at 6:00pm.&nbsp\; Cruise in and enjoy Great Food\, Music &amp\; Prizes!
LOCATION:Southwest Missouri Bank 110 N. Neosho Blvd Neosho\, MO 64850
UID:e.2144.33
SEQUENCE:3
DTSTAMP:20260422T150244Z
URL:https://neoshocc.com/events/details/cruz-smb-nite-09-19-2014-33
END:VEVENT

END:VCALENDAR
