BEGIN:VCALENDAR
VERSION:2.0
PRODID:-//ChamberMaster//Event Calendar 2.0//EN
METHOD:PUBLISH
X-PUBLISHED-TTL:P3D
REFRESH-INTERVAL:P3D
CALSCALE:GREGORIAN
BEGIN:VEVENT
DTSTART;VALUE=DATE:20160310
DTEND;VALUE=DATE:20160313
TRANSP:TRANSPARENT
X-MICROSOFT-CDO-ALLDAYEVENT:TRUE
SUMMARY:Crowder Theatre presents "The Belle of Amherst"
DESCRIPTION:Crowder Theatre presents "The Belle of Amherst"
X-ALT-DESC;FMTTYPE=text/html:Crowder Theatre presents &quot\;The Belle of Amherst&quot\;
LOCATION:Elsie Plaster Community Center
UID:e.2144.1550
SEQUENCE:3
DTSTAMP:20260421T115344Z
URL:https://neoshocc.com/events/details/crowder-theatre-presents-the-belle-of-amherst-03-10-2016-1550
END:VEVENT

END:VCALENDAR
