BEGIN:VCALENDAR
VERSION:2.0
PRODID:-//ChamberMaster//Event Calendar 2.0//EN
METHOD:PUBLISH
X-PUBLISHED-TTL:P3D
REFRESH-INTERVAL:P3D
CALSCALE:GREGORIAN
BEGIN:VEVENT
DTSTART;VALUE=DATE:20250130
DTEND;VALUE=DATE:20250201
TRANSP:TRANSPARENT
X-MICROSOFT-CDO-ALLDAYEVENT:TRUE
SUMMARY:Crowder Softball & Baseball Home Openers 2025
DESCRIPTION:Roughrider Baseball and Softball are back in action! Home opener games start at the end of the month. Baseball will kick off the season on Thursday\, January 30th\, taking on Labette Community College at 1pm. The women take off the following day\, Friday\, January 31st. They'll play Northeastern Junior College at 2pm. Check out the remainder of the season schedule and schedule updates here:  www.crowderathletics.com\n\nFollow their seasons on Facebook: www.facebook.com/CrowderCollegeAthletics/
X-ALT-DESC;FMTTYPE=text/html:<span data-olk-copy-source="MessageBody" style="border: 0px\; font-variant-numeric: inherit\; font-variant-east-asian: inherit\; font-variant-alternates: inherit\; font-variant-position: inherit\; font-variant-emoji: inherit\; font-stretch: inherit\; font-size: 15px\; line-height: inherit\; font-family: Lato\, sans-serif\; font-optical-sizing: inherit\; font-size-adjust: inherit\; font-kerning: inherit\; font-feature-settings: inherit\; font-variation-settings: inherit\; margin: 0px\; padding: 0px\; vertical-align: baseline\; color: black\;">Roughrider Baseball and Softball are back in action! Home opener games start at the end of the month. Baseball will kick off the season on Thursday\, January 30th\, taking on Labette Community College at 1pm. The women take off the following day\, Friday\, January 31st. They&rsquo\;ll play Northeastern Junior College at 2pm. Check out the remainder of the season schedule and schedule updates here: &nbsp\;</span><span style="border: 0px\; font-variant-numeric: inherit\; font-variant-east-asian: inherit\; font-variant-alternates: inherit\; font-variant-position: inherit\; font-variant-emoji: inherit\; font-stretch: inherit\; font-size: 15px\; line-height: inherit\; font-family: Lato\, sans-serif\; font-optical-sizing: inherit\; font-size-adjust: inherit\; font-kerning: inherit\; font-feature-settings: inherit\; font-variation-settings: inherit\; margin: 0px\; padding: 0px\; vertical-align: baseline\; color: rgb(36\, 36\, 36)\;"><a data-auth="NotApplicable" data-linkindex="0" href="http://www.crowderathletics.com/" style="border: 0px\; font: inherit\; margin: 0px\; padding: 0px\; vertical-align: baseline\;" title="http://www.crowderathletics.com/"><span style="border: 0px\; font: inherit\; margin: 0px\; padding: 0px\; vertical-align: baseline\; color: black\;">www.crowderathletics.com</span></a></span><br />\nFollow their seasons on Facebook:&nbsp\;<a href="https://www.facebook.com/CrowderCollegeAthletics/">www.facebook.com/CrowderCollegeAthletics/&nbsp\;</a>
LOCATION:601 Laclede Ave.\, Neosho\, MO 64850
UID:e.2144.14660
SEQUENCE:3
DTSTAMP:20260421T085037Z
URL:https://neoshocc.com/events/details/crowder-softball-baseball-home-openers-2025-14660
END:VEVENT

END:VCALENDAR
