BEGIN:VCALENDAR
VERSION:2.0
PRODID:-//ChamberMaster//Event Calendar 2.0//EN
METHOD:PUBLISH
X-PUBLISHED-TTL:P3D
REFRESH-INTERVAL:P3D
CALSCALE:GREGORIAN
BEGIN:VEVENT
DTSTART;VALUE=DATE:20160428
DTEND;VALUE=DATE:20160501
TRANSP:TRANSPARENT
X-MICROSOFT-CDO-ALLDAYEVENT:TRUE
SUMMARY:Crowder College Theatre Presents "To Kill a Mockingbird"
DESCRIPTION:
X-ALT-DESC;FMTTYPE=text/html:
LOCATION:
UID:e.2144.1553
SEQUENCE:3
DTSTAMP:20260421T120953Z
URL:https://neoshocc.com/events/details/crowder-college-theatre-presents-to-kill-a-mockingbird-04-28-2016-1553
END:VEVENT

END:VCALENDAR
