BEGIN:VCALENDAR
VERSION:2.0
PRODID:-//ChamberMaster//Event Calendar 2.0//EN
METHOD:PUBLISH
X-PUBLISHED-TTL:P3D
REFRESH-INTERVAL:P3D
CALSCALE:GREGORIAN
BEGIN:VEVENT
DTSTART;VALUE=DATE:20160616
DTEND;VALUE=DATE:20160619
TRANSP:TRANSPARENT
X-MICROSOFT-CDO-ALLDAYEVENT:TRUE
SUMMARY:Crowder College Theatre Presents "The Great Gatsby"
DESCRIPTION:
X-ALT-DESC;FMTTYPE=text/html:
LOCATION:
UID:e.2144.1557
SEQUENCE:3
DTSTAMP:20260421T085525Z
URL:https://neoshocc.com/events/details/crowder-college-theatre-presents-the-great-gatsby-06-16-2016-1557
END:VEVENT

END:VCALENDAR
