BEGIN:VCALENDAR
VERSION:2.0
PRODID:-//ChamberMaster//Event Calendar 2.0//EN
METHOD:PUBLISH
X-PUBLISHED-TTL:P3D
REFRESH-INTERVAL:P3D
CALSCALE:GREGORIAN
BEGIN:VEVENT
DTSTART:20260213T190000Z
DTEND:20260213T200000Z
X-MICROSOFT-CDO-ALLDAYEVENT:FALSE
SUMMARY:Crowder College Joplin Location Ribbon Cutting!
DESCRIPTION:Come celebrate the opening of our new Advanced Training and Workforce Center in Joplin.\n\nRibbon Cutting will be February 13 at 1:00 pm
X-ALT-DESC;FMTTYPE=text/html:<span background-color:="" font-size:="" segoe="" ui="">Come celebrate the opening of our new Advanced Training and Workforce Center in Joplin.</span><br background-color:="" class="html-br" font-size:="" segoe="" style="color: rgb(226\, 229\, 233)\; font-family: " ui="" />\n<span background-color:="" font-size:="" segoe="" ui="">Ribbon Cutting will be February 13 at 1:00 pm</span>
LOCATION:3405 S Hammons Blvd Joplin\, Mo.
UID:e.2144.18875
SEQUENCE:3
DTSTAMP:20260423T224904Z
URL:https://neoshocc.com/events/details/crowder-college-joplin-location-ribbon-cutting-18875
END:VEVENT

END:VCALENDAR
