BEGIN:VCALENDAR
VERSION:2.0
PRODID:-//ChamberMaster//Event Calendar 2.0//EN
METHOD:PUBLISH
X-PUBLISHED-TTL:P3D
REFRESH-INTERVAL:P3D
CALSCALE:GREGORIAN
BEGIN:VEVENT
DTSTART:20211109T223000Z
DTEND:20211110T040000Z
X-MICROSOFT-CDO-ALLDAYEVENT:FALSE
SUMMARY:Crowder College Festival of Wreaths
DESCRIPTION:Crowder College welcomes you to the Festival of Wreaths benefitting Crowder College students\; presented by McDonald County Telephone Company. We ask all guests planning to attend the event in-person to pre-register at bidpal.net/fow2021 or TEXT FOW2021 to 243725.\n\n\n\nUnable to attend but still want to bid in the live auction? We have proxy bidders! Call 417.455.5646 to learn more.\n\n\n\nPlease bring a fully charged smartphone for bidding or participate virtually! Social distancing guidelines will be followed. Face masks provided.
X-ALT-DESC;FMTTYPE=text/html:Crowder College welcomes you to the Festival of Wreaths benefitting Crowder College students\; presented by McDonald County Telephone Company. We ask all guests planning to attend the event in-person to <strong>pre-register at bidpal.net/fow2021 or TEXT FOW2021 to 243725</strong>.<br />\n<br />\nUnable to attend but still want to bid in the live auction? We have proxy bidders! Call 417.455.5646 to learn more.<br />\n<br />\nPlease bring a fully charged smartphone for bidding or participate virtually! Social distancing guidelines will be followed. Face masks provided.
LOCATION:Crowder College Elsie Plaster Community Center 601 Laclede Ave Neosho\, MO 64850
UID:e.2144.8040
SEQUENCE:3
DTSTAMP:20260423T225020Z
URL:https://neoshocc.com/events/details/crowder-college-festival-of-wreaths-8040
END:VEVENT

END:VCALENDAR
