BEGIN:VCALENDAR
VERSION:2.0
PRODID:-//ChamberMaster//Event Calendar 2.0//EN
METHOD:PUBLISH
X-PUBLISHED-TTL:P3D
REFRESH-INTERVAL:P3D
CALSCALE:GREGORIAN
BEGIN:VEVENT
DTSTART:20141116T000000Z
DTEND:20141116T020000Z
X-MICROSOFT-CDO-ALLDAYEVENT:FALSE
SUMMARY:Crosslines Community Thanksgiving Dinner
DESCRIPTION:Neosho Crosslines Annual Thanksgiving Dinner.  Everyone is invited to attend and enjoy a traditional Thanksgiving Meal.
X-ALT-DESC;FMTTYPE=text/html:Neosho Crosslines Annual Thanksgiving Dinner.&nbsp\; Everyone is invited to attend and enjoy a traditional Thanksgiving Meal.
LOCATION:Lampo Building
UID:e.2144.41
SEQUENCE:3
DTSTAMP:20260422T120434Z
URL:https://neoshocc.com/events/details/crosslines-community-thanksgiving-dinner-11-15-2014-41
END:VEVENT

END:VCALENDAR
