BEGIN:VCALENDAR
VERSION:2.0
PRODID:-//ChamberMaster//Event Calendar 2.0//EN
METHOD:PUBLISH
X-PUBLISHED-TTL:P3D
REFRESH-INTERVAL:P3D
CALSCALE:GREGORIAN
BEGIN:VEVENT
DTSTART:20231109T230000Z
DTEND:20231110T010000Z
X-MICROSOFT-CDO-ALLDAYEVENT:FALSE
SUMMARY:CPR Training Class
DESCRIPTION:Adult and Pediatric First Aid/CPR/AED Certification $115. Online course work completion instructions will be sent once registration is completed. Online coursework will need to be completed before in-person skills portion of class.
X-ALT-DESC;FMTTYPE=text/html:Adult and Pediatric First Aid/CPR/AED Certification $115. Online course work completion instructions will be sent once registration is completed. Online coursework will need to be completed before in-person skills portion of class.&nbsp\;
LOCATION:Family Advocacy Solutions 1015 S Neosho Blvd Neosho MO. 64850
UID:e.2144.10822
SEQUENCE:3
DTSTAMP:20260425T121525Z
URL:https://neoshocc.com/events/details/cpr-training-class-11-09-2023-10822
END:VEVENT

END:VCALENDAR
