BEGIN:VCALENDAR
VERSION:2.0
PRODID:-//ChamberMaster//Event Calendar 2.0//EN
METHOD:PUBLISH
X-PUBLISHED-TTL:P3D
REFRESH-INTERVAL:P3D
CALSCALE:GREGORIAN
BEGIN:VEVENT
DTSTART:20220628T140000Z
DTEND:20220628T190000Z
X-MICROSOFT-CDO-ALLDAYEVENT:FALSE
SUMMARY:Mitchell's Community Blood Drive! Help save a life!
DESCRIPTION:Help save a life!! The Community Blood Center needs our help NOW more than ever! \n\nMitchell's on the Boulevard is hosting a Community Blood Drive. Walk in's are welcome but appointments are strongly encouraged to manage donor flow. To schedule your appointment call 417-227-5006 or go to www.cbco.org/donate-blood.\n\nWe are excited to see you there!
X-ALT-DESC;FMTTYPE=text/html:Help save a life!! The Community Blood Center needs our help NOW more than ever!&nbsp\;<br />\nMitchell&#39\;s on the Boulevard is hosting a Community Blood Drive. Walk in&#39\;s are welcome but appointments are strongly encouraged to manage donor flow. To schedule your appointment call 417-227-5006 or go to www.cbco.org/donate-blood.<br />\nWe are excited to see you there!&nbsp\;
LOCATION:Mitchell's on the Boulevard 719 S. Neosho Blvd\, Neosho MO 64850
UID:e.2144.8375
SEQUENCE:3
DTSTAMP:20260424T092122Z
URL:https://neoshocc.com/events/details/community-blood-drive-help-save-a-life-8375
END:VEVENT

END:VCALENDAR
