BEGIN:VCALENDAR
VERSION:2.0
PRODID:-//ChamberMaster//Event Calendar 2.0//EN
METHOD:PUBLISH
X-PUBLISHED-TTL:P3D
REFRESH-INTERVAL:P3D
CALSCALE:GREGORIAN
BEGIN:VEVENT
DTSTART:20260528T183000Z
DTEND:20260528T200000Z
X-MICROSOFT-CDO-ALLDAYEVENT:FALSE
SUMMARY:Community Bingo at Oak Point
DESCRIPTION:Join us for Community Bingo from 1:30PM-3PM on the last Thursday of Every Month!
X-ALT-DESC;FMTTYPE=text/html:Join us for Community Bingo from 1:30PM-3PM on the last Thursday of Every Month!&nbsp\;
LOCATION:Oak Point of Neosho 2601 Oak Ridge Ext. Neosho\, MO.
UID:e.2144.19753
SEQUENCE:3
DTSTAMP:20260420T044241Z
URL:https://neoshocc.com/events/details/community-bingo-at-oak-point-05-28-2026-19753
END:VEVENT

END:VCALENDAR
