BEGIN:VCALENDAR
VERSION:2.0
PRODID:-//ChamberMaster//Event Calendar 2.0//EN
METHOD:PUBLISH
X-PUBLISHED-TTL:P3D
REFRESH-INTERVAL:P3D
CALSCALE:GREGORIAN
BEGIN:VEVENT
DTSTART:20260620T163000Z
DTEND:20260620T173000Z
X-MICROSOFT-CDO-ALLDAYEVENT:FALSE
SUMMARY:Common Roots - Lunch and Listen Free Concert
DESCRIPTION:Common Roots\n\nJune 20 at 11:30am to 12:30pm\n\nNeosho National Fish Hatchery | McKinney St. | Neosho\, MO 64850\n\n\n\nBring a sack lunch and listen while you picnic on the Hatchery grounds. This is a come and go event.\n\nIn case of rain the performance will move indoors.\n\n\n\nThe arts council will wrap up our concert series on June 20 with a celebration of Make Music Day featuring the Soft Rock/Pop/Folk duo\, Common Roots. Named the 2024 Acoustic Artist of the Year by the Arkansas Country Music Awards this group is fast becoming a Neosho favorite.
X-ALT-DESC;FMTTYPE=text/html:<h2>Common Roots<br />\nJune 20 at 11:30am to 12:30pm<br />\nNeosho National Fish Hatchery | McKinney St.&nbsp\;| Neosho\, MO 64850<br />\n<br />\nBring a sack lunch and listen while you picnic on the Hatchery grounds. This is a come and go event.</h2>\n\n<div>In case of rain the performance will move indoors.<br />\n<br />\nThe arts council will wrap up our concert series on June 20 with a celebration of Make Music Day featuring the Soft Rock/Pop/Folk duo\, Common Roots. Named the 2024 Acoustic Artist of the Year by the Arkansas Country Music Awards this group is fast becoming a Neosho favorite.&nbsp\;</div>\n
LOCATION:Neosho National Fish Hatchery McKinney St./Hwyy 86 Neosho\, MO 64850
UID:e.2144.19466
SEQUENCE:3
DTSTAMP:20260420T082553Z
URL:https://neoshocc.com/events/details/common-roots-lunch-and-listen-free-concert-19466
END:VEVENT

END:VCALENDAR
