BEGIN:VCALENDAR
VERSION:2.0
PRODID:-//ChamberMaster//Event Calendar 2.0//EN
METHOD:PUBLISH
X-PUBLISHED-TTL:P3D
REFRESH-INTERVAL:P3D
CALSCALE:GREGORIAN
BEGIN:VEVENT
DTSTART:20251206T200000Z
DTEND:20251206T223000Z
X-MICROSOFT-CDO-ALLDAYEVENT:FALSE
SUMMARY:Comics\, Cocoa\, & Candy Canes: CAN’s Annual Holiday Meetup Party
DESCRIPTION:Award-winning author\, illustrator\, and comic artist Grant Snider is coming to Joplin\, and you're invited!\n\nGrant is an adult and children's author and is known for Incidental Comics and several of his books including Poetry Comics\, Thinking about Thinking\, and many more.  He is a USA Today Bestseller and 2025 NEA Read Across America Selection just to name a few of his accolades.\n\nCelebrate the season with Compass Academy Network and join us for an inspiring and interactive afternoon as Grant shares his creative process\, leads a hands-on comic art workshop\, answers questions\, and signs copies of his latest book. Each middle school student guest will receive a free copy to take home!\n\nThis holiday celebration is for current CAN students\, 5th 8th graders\, and their families or guests.  If you are a current CAN student\, BRING A FRIEND and WIN!  Learn more about what CAN is all about.  The event will feature festive treats\, hot cocoa bar\, activities\, Gingerbread House making contest\, photo booth\, and more!  Students that attend will have a chance to win a DRONE and other prizes!  Don't miss this one-of-a-kind holiday event with the CAN community!\n\n \n\nRSVP by November 25\n\nSpace is limited and reservations will be accepted on a first-come\, first-served basis. Preference given to CAN students with their families and friends. Each 5th 8th grade student may bring up to three guests (including at least one parent or adult).\n\nIf you are not a current CAN student\, please complete the RSVP form and we will notify you by December 1\, 2025\, if space is available. Please RSVP for the student attending and include up to three guests (four people total per reservation).\n\nEarly RSVPs received by the deadline will be entered into a special prize drawing. We look forward to celebrating with you.
X-ALT-DESC;FMTTYPE=text/html:<p>Award-winning author\, illustrator\, and comic artist&nbsp\;<strong>Grant Snider&nbsp\;</strong>is coming to Joplin\, and&nbsp\;<strong>you&rsquo\;re invited!</strong></p>\n\n<p>Grant is an adult and children&rsquo\;s author and is known for&nbsp\;<strong>Incidental Comics</strong>&nbsp\;and several of his books including&nbsp\;<strong>Poetry Comics\, Thinking about Thinking\, and many more.</strong>&nbsp\; He is a USA Today Bestseller and 2025 NEA Read Across America Selection just to name a few of his accolades.</p>\n\n<p>Celebrate the season with&nbsp\;<strong>Compass Academy Network</strong>&nbsp\;and join us for an inspiring and interactive afternoon as Grant shares his creative process\, leads a hands-on comic art workshop\, answers questions\, and signs copies of his latest book. Each middle school student guest will receive a&nbsp\;<strong>free</strong>&nbsp\;copy to take home!</p>\n\n<p>This holiday celebration is for&nbsp\;<strong>current CAN students\, 5th&ndash\;8th graders\, and their families or guests.&nbsp\; If you are a current CAN student\, BRING A FRIEND and WIN!</strong>&nbsp\; Learn more about what CAN is all about.&nbsp\; The event will feature festive treats\, hot cocoa bar\, activities\, Gingerbread House making contest\, photo booth\, and more!&nbsp\; Students that attend will have a chance to win a&nbsp\;<strong>DRONE</strong>&nbsp\;and other prizes! &nbsp\;<strong>Don&rsquo\;t miss this one-of-a-kind holiday event with the CAN community!</strong></p>\n\n<p>&nbsp\;</p>\n\n<p><strong>RSVP by November 25</strong></p>\n\n<p>Space is limited and reservations will be accepted on a first-come\, first-served basis. Preference given to CAN students with their families and friends. Each 5th&ndash\;8th grade student may bring up to three guests (including at least one parent or adult).</p>\n\n<p>If you are not a current CAN student\, please complete the RSVP form and we will notify you by<strong>&nbsp\;December 1\, 2025</strong>\, if space is available.&nbsp\;<strong>Please RSVP for the student attending and include up to three guests (four people total per reservation).</strong></p>\n\n<p><strong>Early RSVPs received by the deadline will be entered into a special prize drawing. We look forward to celebrating with you.</strong><br />\n<br />\n&nbsp\;</p>\n
LOCATION:Cornell Auditorium in Plaster Hall\, Missouri Southern State University\, Joplin\, MO
UID:e.2144.18792
SEQUENCE:3
DTSTAMP:20260423T092344Z
URL:https://neoshocc.com/events/details/comics-cocoa-candy-canes-can-s-annual-holiday-meetup-party-18792
END:VEVENT

END:VCALENDAR
