BEGIN:VCALENDAR
VERSION:2.0
PRODID:-//ChamberMaster//Event Calendar 2.0//EN
METHOD:PUBLISH
X-PUBLISHED-TTL:P3D
REFRESH-INTERVAL:P3D
CALSCALE:GREGORIAN
BEGIN:VEVENT
DTSTART:20190809T000000Z
DTEND:20190809T013000Z
X-MICROSOFT-CDO-ALLDAYEVENT:FALSE
SUMMARY:Comedy Night Featuring: Clay Foley & Friends
DESCRIPTION:Clay Foley and his "Born This Clay Comedy Tour" is landing in Historic Downtown Neosho! Join Indian Springs Brewing Company for lots of laughs on August 8th.
X-ALT-DESC;FMTTYPE=text/html:Clay Foley and his &quot\;Born This Clay Comedy Tour&quot\; is landing in Historic Downtown Neosho! Join Indian Springs Brewing Company for lots of laughs on August 8th.
LOCATION:Indian Springs Brewing Company 109 E Main St. Neosho\, Missouri 64850
UID:e.2144.2668
SEQUENCE:3
DTSTAMP:20260421T083235Z
URL:https://neoshocc.com/events/details/comedy-night-featuring-clay-foley-friends-2668
END:VEVENT

END:VCALENDAR
