BEGIN:VCALENDAR
VERSION:2.0
PRODID:-//ChamberMaster//Event Calendar 2.0//EN
METHOD:PUBLISH
X-PUBLISHED-TTL:P3D
REFRESH-INTERVAL:P3D
CALSCALE:GREGORIAN
BEGIN:VEVENT
DTSTART:20190810T000000Z
DTEND:20190810T030000Z
X-MICROSOFT-CDO-ALLDAYEVENT:FALSE
SUMMARY:Comedy For A Cause with Joey I. L. O.
DESCRIPTION:Four States Night Of Comedy with JOEY I.L.O. brought to you by Indigo Sky Casino and Resort to benefit Breast Cancer Foundation of the Ozarks.\n\n\n\nJoey has been featured on NBC Last Comic Standing and sells out theaters nationwide! Local comedy acts will open the show and TONS of FUN in between at this 21 and UP event at Wilder?s Event Center in Downtown Joplin. The night will have Joey I. L. O. and featured local comedians and hosted by Howie and Bubba for this charity event. A portion of the proceeds will be presented to Breast Cancer Foundation Of the Ozarks.
X-ALT-DESC;FMTTYPE=text/html:Four States Night Of Comedy with JOEY I.L.O. brought to you by Indigo Sky Casino and Resort to benefit Breast Cancer Foundation of the Ozarks.<br>\n<br>\nJoey has been featured on NBC Last Comic Standing and sells out theaters nationwide! Local comedy acts will open the show and TONS of FUN in between at this 21 and UP event at Wilder?s Event Center in Downtown Joplin. The night will have Joey I. L. O. and featured local comedians and hosted by Howie and Bubba for this charity event. A portion of the proceeds will be presented to Breast Cancer Foundation Of the Ozarks.
LOCATION:Wilder's Event Center 1208 South Main Street Joplin\, MO 64801
UID:e.2144.2648
SEQUENCE:3
DTSTAMP:20260421T085045Z
URL:https://neoshocc.com/events/details/comedy-for-a-cause-with-joey-i-l-o-2648
END:VEVENT

END:VCALENDAR
