BEGIN:VCALENDAR
VERSION:2.0
PRODID:-//ChamberMaster//Event Calendar 2.0//EN
METHOD:PUBLISH
X-PUBLISHED-TTL:P3D
REFRESH-INTERVAL:P3D
CALSCALE:GREGORIAN
BEGIN:VEVENT
DTSTART:20150827T200000Z
DTEND:20150827T220000Z
X-MICROSOFT-CDO-ALLDAYEVENT:FALSE
SUMMARY:Come & Go Reception
DESCRIPTION:Come & Go Retirement Reception for Ginny Ray\, the Library Director.
X-ALT-DESC;FMTTYPE=text/html:Come &amp\; Go Retirement Reception for Ginny Ray\, the Library Director.
LOCATION:Neosho Library
UID:e.2144.434
SEQUENCE:3
DTSTAMP:20260421T215105Z
URL:https://neoshocc.com/events/details/come-go-reception-08-27-2015-434
END:VEVENT

END:VCALENDAR
