BEGIN:VCALENDAR
VERSION:2.0
PRODID:-//ChamberMaster//Event Calendar 2.0//EN
METHOD:PUBLISH
X-PUBLISHED-TTL:P3D
REFRESH-INTERVAL:P3D
CALSCALE:GREGORIAN
BEGIN:VEVENT
DTSTART;VALUE=DATE:20190817
DTEND;VALUE=DATE:20190818
TRANSP:TRANSPARENT
X-MICROSOFT-CDO-ALLDAYEVENT:TRUE
SUMMARY:Clear the Shelter at Faithful Friends
DESCRIPTION:Hundreds of shelters across the country are teaming up with NBC Owned Television Stations for Clear the Shelters\, a nationwide pet adoption event. \n\n\n\nSo join Faithful Friends Animal Advocates on Saturday\, August 17th to Clear the Shelter! They will be offering specials on adoptions\, new volunteer tours\, answering questions about becoming foster parents and lots more. \n\n\n\nNeed lunch that day? Come try Bald Rod's Hot Dogs! They will be there from 11am-3pm. They are much more than your average hot dog cart. They accept cash and cards. A portion of the proceeds will come directly to the center to help the dogs and cats. \n\n\n\nCan't wait to see you all there!
X-ALT-DESC;FMTTYPE=text/html:<span style="color: rgb(29\, 33\, 41)\; font-family: Helvetica\, Arial\, sans-serif\; font-size: 14px\; white-space: pre-wrap\;">Hundreds of shelters across the country are teaming up with NBC Owned Television Stations for Clear the Shelters\, a nationwide pet adoption event. </span><br style="color: rgb(29\, 33\, 41)\; font-family: Helvetica\, Arial\, sans-serif\; font-size: 14px\; white-space: pre-wrap\;" />\n<br style="color: rgb(29\, 33\, 41)\; font-family: Helvetica\, Arial\, sans-serif\; font-size: 14px\; white-space: pre-wrap\;" />\n<span style="color: rgb(29\, 33\, 41)\; font-family: Helvetica\, Arial\, sans-serif\; font-size: 14px\; white-space: pre-wrap\;">So join Faithful Friends Animal Advocates on Saturday\, August 17th to Clear the Shelter! They will be offering specials on adoptions\, new volunteer tours\, answering questions about becoming foster parents and lots more. </span><br style="color: rgb(29\, 33\, 41)\; font-family: Helvetica\, Arial\, sans-serif\; font-size: 14px\; white-space: pre-wrap\;" />\n<br style="color: rgb(29\, 33\, 41)\; font-family: Helvetica\, Arial\, sans-serif\; font-size: 14px\; white-space: pre-wrap\;" />\n<span style="color: rgb(29\, 33\, 41)\; font-family: Helvetica\, Arial\, sans-serif\; font-size: 14px\; white-space: pre-wrap\;">Need lunch that day? Come try Bald Rod&rsquo\;s Hot Dogs! They will be there from 11am-3pm. They are much more than your average hot dog cart. They accept cash and cards. A portion of the proceeds will come directly to the center to help the dogs and cats. </span><br style="color: rgb(29\, 33\, 41)\; font-family: Helvetica\, Arial\, sans-serif\; font-size: 14px\; white-space: pre-wrap\;" />\n<br style="color: rgb(29\, 33\, 41)\; font-family: Helvetica\, Arial\, sans-serif\; font-size: 14px\; white-space: pre-wrap\;" />\n<span style="color: rgb(29\, 33\, 41)\; font-family: Helvetica\, Arial\, sans-serif\; font-size: 14px\; white-space: pre-wrap\;">Can&rsquo\;t wait to see you all there!</span><br />\n&nbsp\;
LOCATION:Faithful Friends Animal Advocates 11281 East Hwy 86 Neosho\, MO
UID:e.2144.2689
SEQUENCE:3
DTSTAMP:20260421T085419Z
URL:https://neoshocc.com/events/details/clear-the-shelter-at-faithful-friends-2689
END:VEVENT

END:VCALENDAR
