BEGIN:VCALENDAR
VERSION:2.0
PRODID:-//ChamberMaster//Event Calendar 2.0//EN
METHOD:PUBLISH
X-PUBLISHED-TTL:P3D
REFRESH-INTERVAL:P3D
CALSCALE:GREGORIAN
BEGIN:VEVENT
DTSTART:20150926T130000Z
DTEND:20150926T170000Z
X-MICROSOFT-CDO-ALLDAYEVENT:FALSE
SUMMARY:Clays for a Cause
DESCRIPTION:2nd Annual Sporting Clay Tournament.  Net proceeds go to benefit Bill & Virginia Leffen Center for Autism new building fund.
X-ALT-DESC;FMTTYPE=text/html:2nd Annual Sporting Clay Tournament.&nbsp\; Net proceeds go to benefit Bill &amp\; Virginia Leffen Center for Autism new building fund.
LOCATION:Claythorne Lodge 1329 NW 100th St Columbus\, KS
UID:e.2144.1451
SEQUENCE:3
DTSTAMP:20260421T201801Z
URL:https://neoshocc.com/events/details/clays-for-a-cause-09-26-2015-1451
END:VEVENT

END:VCALENDAR
