BEGIN:VCALENDAR
VERSION:2.0
PRODID:-//ChamberMaster//Event Calendar 2.0//EN
METHOD:PUBLISH
X-PUBLISHED-TTL:P3D
REFRESH-INTERVAL:P3D
CALSCALE:GREGORIAN
BEGIN:VEVENT
DTSTART:20150510T000000Z
DTEND:20150510T020000Z
X-MICROSOFT-CDO-ALLDAYEVENT:FALSE
SUMMARY:Classic Country Music Show - Willamae & Friends
DESCRIPTION:Willamae & Friends\n\nClassic Country Music Show
X-ALT-DESC;FMTTYPE=text/html:Willamae &amp\; Friends<br />\nClassic Country Music Show
LOCATION:Elsie Plaster Auditorium at Crowder College
UID:e.2144.248
SEQUENCE:3
DTSTAMP:20260422T030340Z
URL:https://neoshocc.com/events/details/classic-country-music-show-willamae-friends-05-09-2015-248
END:VEVENT

END:VCALENDAR
