BEGIN:VCALENDAR
VERSION:2.0
PRODID:-//ChamberMaster//Event Calendar 2.0//EN
METHOD:PUBLISH
X-PUBLISHED-TTL:P3D
REFRESH-INTERVAL:P3D
CALSCALE:GREGORIAN
BEGIN:VEVENT
DTSTART:20151027T230000Z
DTEND:20151028T010000Z
X-MICROSOFT-CDO-ALLDAYEVENT:FALSE
SUMMARY:Classes to Live By - Wild Edibles
DESCRIPTION:Come take a walk on the wild side\, of plants\, that is. Enjoy samples of prepared wild edibles while you learn about the plants and how to harvest and cook them. Pre-registration by the week before the class is requested.
X-ALT-DESC;FMTTYPE=text/html:Come take a walk on the wild side\, of plants\, that is. Enjoy samples of prepared wild edibles while you learn about the plants and how to harvest and cook them. Pre-registration by the week before the class is requested.
LOCATION:18728 Hwy 59 Neosho\, MO
UID:e.2144.1485
SEQUENCE:3
DTSTAMP:20260421T184800Z
URL:https://neoshocc.com/events/details/classes-to-live-by-wild-edibles-10-27-2015-1485
END:VEVENT

END:VCALENDAR
