BEGIN:VCALENDAR
VERSION:2.0
PRODID:-//ChamberMaster//Event Calendar 2.0//EN
METHOD:PUBLISH
X-PUBLISHED-TTL:P3D
REFRESH-INTERVAL:P3D
CALSCALE:GREGORIAN
BEGIN:VEVENT
DTSTART:20151020T230000Z
DTEND:20151021T010000Z
X-MICROSOFT-CDO-ALLDAYEVENT:FALSE
SUMMARY:Classes to Live By - Healthy Snacks
DESCRIPTION:Julie Graue\, Nutrition Program Associate\, will teach you how to create healthy and delicious snacks for your family. Enjoy samples and snacks while you're there and take home recipes and healthy eating tips and ideas. Pre-registration is requested by the week before the class.
X-ALT-DESC;FMTTYPE=text/html:Julie Graue\, Nutrition Program Associate\, will teach you how to create healthy and delicious snacks for your family. Enjoy samples and snacks while you&#39\;re there and take home recipes and healthy eating tips and ideas. Pre-registration is requested by the week before the class.
LOCATION:Newton County Extension Center 18728 Hwy 59 Neosho\, MO
UID:e.2144.1484
SEQUENCE:3
DTSTAMP:20260421T184755Z
URL:https://neoshocc.com/events/details/classes-to-live-by-healthy-snacks-10-20-2015-1484
END:VEVENT

END:VCALENDAR
