BEGIN:VCALENDAR
VERSION:2.0
PRODID:-//ChamberMaster//Event Calendar 2.0//EN
METHOD:PUBLISH
X-PUBLISHED-TTL:P3D
REFRESH-INTERVAL:P3D
CALSCALE:GREGORIAN
BEGIN:VEVENT
DTSTART:20160526T210000Z
DTEND:20160527T000000Z
X-MICROSOFT-CDO-ALLDAYEVENT:FALSE
SUMMARY:CJR 2016 Customer Appreciation Event
DESCRIPTION:You are invited to our 2016 Customer Appreciation Event! For Past\, present & future customers. Come & Go As you please.  Enjoy Fresh BBQ & live music!
X-ALT-DESC;FMTTYPE=text/html:You are invited to our 2016 Customer Appreciation Event! For Past\, present &amp\; future customers. Come &amp\; Go As you please.&nbsp\; Enjoy Fresh BBQ &amp\; live music!
LOCATION:Lampo Community Center 500 E. Spring Street Neosho\, MO 64850
UID:e.2144.1655
SEQUENCE:3
DTSTAMP:20260421T084858Z
URL:https://neoshocc.com/events/details/cjr-2016-customer-appreciation-event-05-26-2016-1655
END:VEVENT

END:VCALENDAR
