BEGIN:VCALENDAR
VERSION:2.0
PRODID:-//ChamberMaster//Event Calendar 2.0//EN
METHOD:PUBLISH
X-PUBLISHED-TTL:P3D
REFRESH-INTERVAL:P3D
CALSCALE:GREGORIAN
BEGIN:VEVENT
DTSTART:20150823T013000Z
DTEND:20150823T030000Z
X-MICROSOFT-CDO-ALLDAYEVENT:FALSE
SUMMARY:Cinema in the Park - The Sandlot
DESCRIPTION:Join us for Cinema in the Park\, Downtown at Neosho's Big Spring Park\, Saturday\, August 22nd\, 2015 at 8:30pm following the Big Spring Summer Social on the Square.  Admission is FREE but we would like to suggest bringing a jar of peanut butter for the Bright Futures weekend backpack program\n\n\n\nMovie Presentation made possible by the following Sponsors\n\nJohnson & Wood Law Firm\n\nNeosho Arts Council\n\nNeosho Area Chamber of Commerce\n\nProduction by Steve & Laura York
X-ALT-DESC;FMTTYPE=text/html:Join us for Cinema in the Park\, Downtown at Neosho&#39\;s Big Spring Park\, Saturday\, August 22nd\, 2015 at 8:30pm following the Big Spring Summer Social on the Square.&nbsp\; Admission is FREE but we would like to suggest bringing a jar of peanut butter for the Bright Futures weekend backpack program<br />\n<br />\nMovie Presentation made possible by the following Sponsors<br />\nJohnson &amp\; Wood Law Firm<br />\nNeosho Arts Council<br />\nNeosho Area Chamber of Commerce<br />\nProduction by Steve &amp\; Laura York
LOCATION:Big Spring Park Downtown Neosho on Spring Street\, just 2 blocks West of the Square
UID:e.2144.438
SEQUENCE:3
DTSTAMP:20260421T215606Z
URL:https://neoshocc.com/events/details/cinema-in-the-park-the-sandlot-08-22-2015-438
END:VEVENT

END:VCALENDAR
