BEGIN:VCALENDAR
VERSION:2.0
PRODID:-//ChamberMaster//Event Calendar 2.0//EN
METHOD:PUBLISH
X-PUBLISHED-TTL:P3D
REFRESH-INTERVAL:P3D
CALSCALE:GREGORIAN
BEGIN:VEVENT
DTSTART:20141206T000000Z
DTEND:20141206T010000Z
X-MICROSOFT-CDO-ALLDAYEVENT:FALSE
SUMMARY:Christmas Lighting Ceremony - Big Spring Park
DESCRIPTION:Holiday Favorites sung by Central Elementary 2nd Grade Choir\n\nReading of "Twas the Night Before Christmas"\n\nAppearances by Willie Wildcat & Clifford the Big Red Dog\n\nLighting ceremony with the Neosho Citizen of the Year & Neosho Employee of the Year.  Hosted by the City of Neosho
X-ALT-DESC;FMTTYPE=text/html:Holiday Favorites sung by Central Elementary 2nd Grade Choir<br />\nReading of &quot\;Twas the Night Before Christmas&quot\;<br />\nAppearances by Willie Wildcat &amp\; Clifford the Big Red Dog<br />\nLighting ceremony with the Neosho Citizen of the Year &amp\; Neosho Employee of the Year.&nbsp\; Hosted by the City of Neosho
LOCATION:Big Spring Park Downtown Neosho
UID:e.2144.84
SEQUENCE:3
DTSTAMP:20260422T115626Z
URL:https://neoshocc.com/events/details/christmas-lighting-ceremony-big-spring-park-12-05-2014-84
END:VEVENT

END:VCALENDAR
