BEGIN:VCALENDAR
VERSION:2.0
PRODID:-//ChamberMaster//Event Calendar 2.0//EN
METHOD:PUBLISH
X-PUBLISHED-TTL:P3D
REFRESH-INTERVAL:P3D
CALSCALE:GREGORIAN
BEGIN:VEVENT
DTSTART:20141206T160000Z
DTEND:20141206T200000Z
X-MICROSOFT-CDO-ALLDAYEVENT:FALSE
SUMMARY:Christmas for Kids - Stuff the Truck at Walgreens
DESCRIPTION:Stop by and help support the Newton County Christmas for Kids\, "Stuff the Truck"\, Saturday\, December 6th\, 2014\, 10am to 2pm at Walgreens in Neosho.  Firefighters will be grilling hotdogs!  Hotdogs for a $2.00 donation ot FREE with a toy donation.  Pictures with Santa by Stacy Burris Photography.  Christmas Caroling by the Neosho High School Choir Team
X-ALT-DESC;FMTTYPE=text/html:Stop by and help support the Newton County Christmas for Kids\, &quot\;Stuff the Truck&quot\;\, Saturday\, December 6th\, 2014\, 10am to 2pm at Walgreens in Neosho.&nbsp\; Firefighters will be grilling hotdogs!&nbsp\; Hotdogs for a $2.00 donation ot FREE with a toy donation.&nbsp\; Pictures with Santa by Stacy Burris Photography.&nbsp\; Christmas Caroling by the Neosho High School Choir Team
LOCATION:Walgreens in Neosho
UID:e.2144.94
SEQUENCE:3
DTSTAMP:20260422T104204Z
URL:https://neoshocc.com/events/details/christmas-for-kids-stuff-the-truck-at-walgreens-12-06-2014-94
END:VEVENT

END:VCALENDAR
