BEGIN:VCALENDAR
VERSION:2.0
PRODID:-//ChamberMaster//Event Calendar 2.0//EN
METHOD:PUBLISH
X-PUBLISHED-TTL:P3D
REFRESH-INTERVAL:P3D
CALSCALE:GREGORIAN
BEGIN:VEVENT
DTSTART:20141011T000000Z
DTEND:20141011T013000Z
X-MICROSOFT-CDO-ALLDAYEVENT:FALSE
SUMMARY:Chili Cook-Off - Neosho Rotary Club
DESCRIPTION:Come Eat & Tailgate Before the Game!  Chili Cook-Off Sponsored by the Neosho Rotary Club!  $5.00 Buys chili\, drink & dessert Plus 2 Chili Vote Tickets!
X-ALT-DESC;FMTTYPE=text/html:Come Eat &amp\; Tailgate Before the Game!&nbsp\; Chili Cook-Off Sponsored by the Neosho Rotary Club!&nbsp\; $5.00 Buys chili\, drink &amp\; dessert Plus 2 Chili Vote Tickets!
LOCATION:NHS Practice Field
UID:e.2144.38
SEQUENCE:3
DTSTAMP:20260422T134329Z
URL:https://neoshocc.com/events/details/chili-cook-off-neosho-rotary-club-10-10-2014-38
END:VEVENT

END:VCALENDAR
