BEGIN:VCALENDAR
VERSION:2.0
PRODID:-//ChamberMaster//Event Calendar 2.0//EN
METHOD:PUBLISH
X-PUBLISHED-TTL:P3D
REFRESH-INTERVAL:P3D
CALSCALE:GREGORIAN
BEGIN:VEVENT
DTSTART:20160421T133000Z
DTEND:20160421T143000Z
X-MICROSOFT-CDO-ALLDAYEVENT:FALSE
SUMMARY:Chamber Board Meeting
DESCRIPTION:Chamber Board Meeting
X-ALT-DESC;FMTTYPE=text/html:Chamber Board Meeting
LOCATION:Chamber Office
UID:e.2144.1633
SEQUENCE:3
DTSTAMP:20260421T101441Z
URL:https://neoshocc.com/events/details/chamber-board-meeting-04-21-2016-1633
END:VEVENT

END:VCALENDAR
