BEGIN:VCALENDAR
VERSION:2.0
PRODID:-//ChamberMaster//Event Calendar 2.0//EN
METHOD:PUBLISH
X-PUBLISHED-TTL:P3D
REFRESH-INTERVAL:P3D
CALSCALE:GREGORIAN
BEGIN:VEVENT
DTSTART:20230306T150000Z
DTEND:20230330T230000Z
X-MICROSOFT-CDO-ALLDAYEVENT:FALSE
SUMMARY:Central Ozark Conference Art Exhibit at The Longwell Museum
DESCRIPTION:Crowder College Longwell Museum hosts the Central Ozark Conference Art Exhibit March 6 - 30 with a closing reception being held March 30\, 5pm - 7pm. The exhibit features artwork from Carl Junction\, Carthage\, Joplin\, Neosho and Webb City high schools. Free and open to the public\, Longwell Museum is open Monday - Friday 9am - 6pm (closed holidays). \n\n\n\nLongwell Museum\, Crowder College\, 601 Laclede Ave.\, Neosho\, MO 64850
X-ALT-DESC;FMTTYPE=text/html:<span style="background-color:rgb(250\, 250\, 250)\; color:rgb(66\, 66\, 66)\; font-family:arial\,helvetica\,sans-serif\; font-size:12px">Crowder College Longwell Museum hosts the Central Ozark Conference Art Exhibit March 6 - 30 with a closing reception being held March 30\, 5pm - 7pm. The exhibit features artwork from Carl Junction\, Carthage\, Joplin\, Neosho and Webb City high schools. Free and open to the public\, Longwell Museum is open Monday - Friday 9am - 6pm (closed holidays).&nbsp\;<br />\n<br />\nLongwell Museum\, Crowder College\, 601 Laclede Ave.\, Neosho\, MO 64850</span>
LOCATION:Longwell Museum\, Crowder College Elsie Plaster Community Center 601 Laclede Ave.\, Neosho\, MO 64850
UID:e.2144.9261
SEQUENCE:3
DTSTAMP:20260426T004545Z
URL:https://neoshocc.com/events/details/central-ozark-conference-art-exhibit-at-the-longwell-museum-03-06-2023-9261
END:VEVENT

END:VCALENDAR
